Workbook

Sheet Formulir tanpa judul
A1: Cap waktu | B1: Nama Lengkap | C1: Usia | D1: Jenis Kelamin | E1: Pekerjaan | F1: Pendidikan | G1: Obat bebas bisa dibeli tanpa resep dokter. | H1: Informasi cara pakai obat bisa dilihat di kemasan atau label obat. | I1: Semua jenis obat bisa digunakan tanpa berkonsultasi ke apotek atau dokter. | J1: Obat yang direkomendasikan teman pasti cocok untuk semua orang. | K1: Aturan minum obat tidak penting selama gejalanya sama. | L1: Obat harus diminum sesuai aturan pakai yang tertera. | M1: Dosis obat boleh ditambah sendiri agar cepat sembuh. | N1: Waktu minum obat (sebelum/sesudah makan) tidak perlu diperhatikan. | O1: Obat sebaiknya disimpan di tempat yang sejuk dan kering. | P1: Obat boleh disimpan di tempat lembap seperti kamar mandi. | Q1: Menyimpan obat di dekat jangkauan anak-anak itu aman. | R1: Obat kedaluwarsa sebaiknya dibuang, bukan disimpan. | S1: Obat kedaluwarsa boleh langsung dibuang ke sungai atau toilet. | T1: Obat yang sudah tidak digunakan lagi sebaiknya dihancurkan sebelum dibuang. | U1: Membuang obat sembarangan bisa mencemari lingkungan. | V1: Obat bebas dan obat keras itu sama saja. | W1: Jika gejala tidak membaik setelah minum obat bebas, sebaiknya periksa ke dokter. | X1: Semua orang harus tahu cara menggunakan dan menyimpan obat dengan benar. | Y1: Obat yang tidak cocok bisa menyebabkan efek samping. | Z1: Edukasi DAGUSIBU penting untuk mencegah kesalahan dalam penggunaan obat.
A2: 2025/06/25 1:20:05 PM GMT+7 | B2: sebob | C2: 21 | D2: Laki - Laki | E2: mahasiswa | F2: Diploma/Sarjana | G2: Benar | H2: Benar | I2: Benar | J2: Benar | K2: Benar | L2: Benar | M2: Salah | N2: Salah | O2: Benar | P2: Salah | Q2: Salah | R2: Benar | S2: Salah | T2: Benar | U2: Benar | V2: Salah | W2: Benar | X2: Benar | Y2: Benar | Z2: Benar
A3: 2025/06/25 1:22:10 PM GMT+7 | B3: Shaqilla Fayruz Qirani | C3: 32 | D3: Perempuan | E3: Ibu Rumah Tangga | F3: Diploma/Sarjana | G3: Benar | H3: Benar | I3: Salah | J3: Salah | K3: Salah | L3: Benar | M3: Salah | N3: Salah | O3: Benar | P3: Salah | Q3: Salah | R3: Benar | S3: Salah | T3: Benar | U3: Benar | V3: Salah | W3: Benar | X3: Benar | Y3: Benar | Z3: Benar
A4: 2025/06/25 1:45:23 PM GMT+7 | B4: Angga aditya | C4: 24 | D4: Laki - Laki | E4: Pelajar | F4: SMA/SMK/Sederajat | G4: Benar | H4: Benar | I4: Salah | J4: Salah | K4: Salah | L4: Benar | M4: Salah | N4: Salah | O4: Benar | P4: Salah | Q4: Salah | R4: Benar | S4: Salah | T4: Benar | U4: Benar | V4: Salah | W4: Benar | X4: Benar | Y4: Benar | Z4: Benar
A5: 2025/06/25 1:58:05 PM GMT+7 | B5: Ibnu akil | C5: 25 | D5: Laki - Laki | E5: Wirausaha | F5: SMA/SMK/Sederajat | G5: Benar | H5: Benar | I5: Salah | J5: Salah | K5: Salah | L5: Benar | M5: Salah | N5: Salah | O5: Benar | P5: Salah | Q5: Salah | R5: Benar | S5: Salah | T5: Benar | U5: Benar | V5: Salah | W5: Benar | X5: Benar | Y5: Benar | Z5: Benar
A6: 2025/06/25 2:09:27 PM GMT+7 | B6: Vania | C6: 24 | D6: Perempuan | E6: Mahasiswi | F6: SMA/SMK/Sederajat | G6: Benar | H6: Benar | I6: Salah | J6: Salah | K6: Salah | L6: Benar | M6: Salah | N6: Salah | O6: Benar | P6: Salah | Q6: Salah | R6: Benar | S6: Salah | T6: Benar | U6: Benar | V6: Salah | W6: Benar | X6: Benar | Y6: Benar | Z6: Benar
A7: 2025/06/25 2:29:27 PM GMT+7 | B7: Lenni Kristina pasaribu | C7: 23 | D7: Perempuan | E7: Belum bekerja | F7: Diploma/Sarjana | G7: Benar | H7: Benar | I7: Salah | J7: Salah | K7: Salah | L7: Benar | M7: Salah | N7: Salah | O7: Benar | P7: Salah | Q7: Salah | R7: Benar | S7: Salah | T7: Benar | U7: Benar | V7: Salah | W7: Benar | X7: Benar | Y7: Benar | Z7: Benar
A8: 2025/06/25 2:42:38 PM GMT+7 | B8: Sei Lestari | C8: 22 | D8: Perempuan | E8: Wiraswasta | F8: SMA/SMK/Sederajat | G8: Benar | H8: Benar | I8: Salah | J8: Salah | K8: Salah | L8: Benar | M8: Salah | N8: Salah | O8: Benar | P8: Salah | Q8: Salah | R8: Benar | S8: Salah | T8: Benar | U8: Benar | V8: Salah | W8: Benar | X8: Benar | Y8: Benar | Z8: Benar
A9: 2025/06/25 4:23:24 PM GMT+7 | B9: Iyas Abdul aziz | C9: 22 | D9: Laki - Laki | E9: waiter | F9: SMA/SMK/Sederajat | G9: Benar | H9: Salah | I9: Salah | J9: Salah | K9: Salah | L9: Benar | M9: Salah | N9: Salah | O9: Benar | P9: Salah | Q9: Salah | R9: Benar | S9: Salah | T9: Salah | U9: Benar | V9: Salah | W9: Benar | X9: Benar | Y9: Benar | Z9: Benar
A10: 2025/06/26 5:09:02 AM GMT+7 | B10: Nur hayati | C10: 28 tahun | D10: Perempuan | E10: CPNS | F10: Diploma/Sarjana | G10: Benar | H10: Benar | I10: Salah | J10: Salah | K10: Salah | L10: Benar | M10: Salah | N10: Salah | O10: Benar | P10: Salah | Q10: Salah | R10: Benar | S10: Salah | T10: Benar | U10: Benar | V10: Salah | W10: Benar | X10: Benar | Y10: Benar | Z10: Benar
A11: 2025/06/27 9:01:13 AM GMT+7 | B11: Eka | C11: 25 tahun | D11: Perempuan | E11: Wirausaha | F11: SMA/SMK/Sederajat | G11: Benar | H11: Benar | I11: Salah | J11: Benar | K11: Salah | L11: Benar | M11: Salah | N11: Salah | O11: Benar | P11: Salah | Q11: Salah | R11: Benar | S11: Benar | T11: Salah | U11: Benar | V11: Salah | W11: Benar | X11: Benar | Y11: Benar | Z11: Benar
A12: 2025/06/27 10:11:43 AM GMT+7 | B12: Wildan | C12: 18 | D12: Laki - Laki | E12: Pedagang | F12: SMA/SMK/Sederajat | G12: Benar | H12: Benar | I12: Salah | J12: Salah | K12: Benar | L12: Benar | M12: Salah | N12: Salah | O12: Benar | P12: Salah | Q12: Salah | R12: Benar | S12: Benar | T12: Benar | U12: Benar | V12: Salah | W12: Benar | X12: Benar | Y12: Benar | Z12: Benar
A13: 2025/06/27 10:13:02 AM GMT+7 | B13: Muhammad bimo | C13: 22 | D13: Laki - Laki | E13: Karyawan | F13: SMA/SMK/Sederajat | G13: Salah | H13: Benar | I13: Salah | J13: Salah | K13: Salah | L13: Benar | M13: Salah | N13: Benar | O13: Benar | P13: Salah | Q13: Benar | R13: Benar | S13: Benar | T13: Benar | U13: Benar | V13: Salah | W13: Benar | X13: Benar | Y13: Benar | Z13: Benar
A14: 2025/06/27 10:14:58 AM GMT+7 | B14: Muhamad rizhan | C14: 17 | D14: Laki - Laki | E14: Pelajar | F14: SMA/SMK/Sederajat | G14: Salah | H14: Benar | I14: Salah | J14: Salah | K14: Salah | L14: Benar | M14: Salah | N14: Salah | O14: Benar | P14: Salah | Q14: Benar | R14: Benar | S14: Benar | T14: Benar | U14: Benar | V14: Salah | W14: Benar | X14: Benar | Y14: Benar | Z14: Benar
A15: 2025/06/27 10:15:52 AM GMT+7 | B15: Sasabilla | C15: 26 | D15: Perempuan | E15: Buruh pabrik | F15: SMA/SMK/Sederajat | G15: Benar | H15: Benar | I15: Benar | J15: Salah | K15: Salah | L15: Benar | M15: Salah | N15: Benar | O15: Benar | P15: Salah | Q15: Salah | R15: Benar | S15: Salah | T15: Salah | U15: Benar | V15: Salah | W15: Benar | X15: Benar | Y15: Benar | Z15: Benar
A16: 2025/06/27 10:16:15 AM GMT+7 | B16: Rangga setia putra | C16: 25 | D16: Laki - Laki | E16: Karyawan | F16: SMA/SMK/Sederajat | G16: Salah | H16: Benar | I16: Salah | J16: Salah | K16: Salah | L16: Benar | M16: Salah | N16: Benar | O16: Benar | P16: Salah | Q16: Benar | R16: Benar | S16: Benar | T16: Benar | U16: Benar | V16: Salah | W16: Benar | X16: Benar | Y16: Benar | Z16: Benar
A17: 2025/06/27 10:17:33 AM GMT+7 | B17: Siswanto | C17: 27 | D17: Laki - Laki | E17: Staff | F17: SMA/SMK/Sederajat | G17: Benar | H17: Benar | I17: Salah | J17: Salah | K17: Salah | L17: Benar | M17: Salah | N17: Salah | O17: Benar | P17: Salah | Q17: Salah | R17: Benar | S17: Salah | T17: Benar | U17: Benar | V17: Salah | W17: Benar | X17: Benar | Y17: Benar | Z17: Benar
A18: 2025/06/27 10:18:53 AM GMT+7 | B18: Ahmad Yusuf | C18: 30 | D18: Laki - Laki | E18: Security | F18: SMA/SMK/Sederajat | G18: Salah | H18: Benar | I18: Salah | J18: Salah | K18: Salah | L18: Benar | M18: Salah | N18: Salah | O18: Benar | P18: Salah | Q18: Salah | R18: Benar | S18: Salah | T18: Benar | U18: Benar | V18: Salah | W18: Benar | X18: Benar | Y18: Benar | Z18: Benar
A19: 2025/06/27 10:23:01 AM GMT+7 | B19: Patrick Dwi Marga Waluya | C19: 32 | D19: Laki - Laki | E19: Wiraswasta | F19: Diploma/Sarjana | G19: Benar | H19: Benar | I19: Salah | J19: Salah | K19: Salah | L19: Benar | M19: Salah | N19: Salah | O19: Benar | P19: Salah | Q19: Salah | R19: Benar | S19: Salah | T19: Benar | U19: Benar | V19: Salah | W19: Benar | X19: Benar | Y19: Benar | Z19: Benar
A20: 2025/06/27 10:32:03 AM GMT+7 | B20: Minta | C20: 35 | D20: Laki - Laki | E20: Buruh | F20: SD (Sekolah Dasar) | G20: Benar | H20: Benar | I20: Salah | J20: Salah | K20: Salah | L20: Benar | M20: Salah | N20: Benar | O20: Benar | P20: Salah | Q20: Salah | R20: Benar | S20: Benar | T20: Benar | U20: Benar | V20: Benar | W20: Benar | X20: Benar | Y20: Benar | Z20: Benar
A21: 2025/06/27 11:21:40 AM GMT+7 | B21: Susi Susanti | C21: 27 tahun | D21: Perempuan | E21: Karyawan | F21: SMP (Sekolah Menengah Pertama) | G21: Salah | H21: Benar | I21: Salah | J21: Salah | K21: Salah | L21: Benar | M21: Salah | N21: Salah | O21: Benar | P21: Salah | Q21: Salah | R21: Benar | S21: Salah | T21: Benar | U21: Benar | V21: Salah | W21: Benar | X21: Benar | Y21: Benar | Z21: Benar
A22: 2025/06/27 11:54:45 AM GMT+7 | B22: ian | C22: 23 tahun | D22: Laki - Laki | E22: wirausaha | F22: Diploma/Sarjana | G22: Benar | H22: Benar | I22: Salah | J22: Salah | K22: Salah | L22: Benar | M22: Salah | N22: Salah | O22: Benar | P22: Salah | Q22: Salah | R22: Benar | S22: Salah | T22: Benar | U22: Benar | V22: Salah | W22: Benar | X22: Benar | Y22: Benar | Z22: Benar
A23: 2025/06/27 12:08:38 PM GMT+7 | B23: Arini nazmi | C23: 29th | D23: Perempuan | E23: Ibu rmh tangga | F23: SMA/SMK/Sederajat | G23: Benar | H23: Benar | I23: Salah | J23: Salah | K23: Salah | L23: Benar | M23: Salah | N23: Salah | O23: Benar | P23: Salah | Q23: Salah | R23: Benar | S23: Salah | T23: Benar | U23: Benar | V23: Salah | W23: Benar | X23: Benar | Y23: Benar | Z23: Benar
A24: 2025/06/27 12:15:24 PM GMT+7 | B24: GHINAA SEPHIA | C24: 21 | D24: Perempuan | E24: Buruh pabrik | F24: SMA/SMK/Sederajat | G24: Benar | H24: Benar | I24: Salah | J24: Salah | K24: Salah | L24: Benar | M24: Salah | N24: Salah | O24: Salah | P24: Salah | Q24: Salah | R24: Benar | S24: Salah | T24: Benar | U24: Benar | V24: Benar | W24: Benar | X24: Benar | Y24: Benar | Z24: Benar
A25: 2025/06/27 12:38:32 PM GMT+7 | B25: Wahiman | C25: 30 | D25: Laki - Laki | E25: Rumah makan | F25: SMP (Sekolah Menengah Pertama) | G25: Benar | H25: Benar | I25: Benar | J25: Benar | K25: Benar | L25: Benar | M25: Benar | N25: Benar | O25: Benar | P25: Benar | Q25: Salah | R25: Benar | S25: Salah | T25: Benar | U25: Benar | V25: Salah | W25: Benar | X25: Benar | Y25: Benar | Z25: Benar
A26: 2025/06/27 1:44:20 PM GMT+7 | B26: Jono | C26: 48 | D26: Laki - Laki | E26: Pengacara | F26: SMA/SMK/Sederajat | G26: Benar | H26: Benar | I26: Benar | J26: Benar | K26: Benar | L26: Benar | M26: Benar | N26: Benar | O26: Benar | P26: Benar | Q26: Benar | R26: Benar | S26: Benar | T26: Benar | U26: Benar | V26: Benar | W26: Benar | X26: Benar | Y26: Benar | Z26: Benar
A27: 2025/06/27 1:57:06 PM GMT+7 | B27: Faikal Fahrulrozi | C27: 20 | D27: Laki - Laki | E27: Mahasiswa | F27: Diploma/Sarjana | G27: Benar | H27: Benar | I27: Salah | J27: Salah | K27: Salah | L27: Benar | M27: Salah | N27: Salah | O27: Benar | P27: Salah | Q27: Benar | R27: Benar | S27: Salah | T27: Benar | U27: Benar | V27: Salah | W27: Benar | X27: Benar | Y27: Benar | Z27: Benar
A28: 2025/06/27 3:19:51 PM GMT+7 | B28: Monita | C28: 27 | D28: Perempuan | E28: Pegawai swasta | F28: SMA/SMK/Sederajat | G28: Benar | H28: Benar | I28: Salah | J28: Salah | K28: Salah | L28: Benar | M28: Salah | N28: Benar | O28: Salah | P28: Benar | Q28: Salah | R28: Benar | S28: Benar | T28: Salah | U28: Benar | V28: Benar | W28: Benar | X28: Salah | Y28: Salah | Z28: Salah
A29: 2025/06/27 5:27:02 PM GMT+7 | B29: Fakhrinnisa Wildani Rahman | C29: 25 | D29: Perempuan | E29: Wiraswasta | F29: Diploma/Sarjana | G29: Benar | H29: Benar | I29: Salah | J29: Salah | K29: Salah | L29: Benar | M29: Salah | N29: Salah | O29: Benar | P29: Salah | Q29: Salah | R29: Benar | S29: Salah | T29: Benar | U29: Benar | V29: Salah | W29: Benar | X29: Benar | Y29: Benar | Z29: Benar
A30: 2025/06/27 6:12:59 PM GMT+7 | B30: Leny Septyaba | C30: 29 | D30: Perempuan | E30: Honoree | F30: Diploma/Sarjana | G30: Salah | H30: Benar | I30: Salah | J30: Salah | K30: Salah | L30: Benar | M30: Salah | N30: Salah | O30: Benar | P30: Salah | Q30: Salah | R30: Benar | S30: Salah | T30: Benar | U30: Benar | V30: Salah | W30: Benar | X30: Benar | Y30: Benar | Z30: Benar
A31: 2025/06/28 4:36:45 AM GMT+7 | B31: PUTRI | C31: 24 | D31: Perempuan | E31: DOKTER HEWAN | F31: Diploma/Sarjana | G31: Benar | H31: Benar | I31: Salah | J31: Salah | K31: Salah | L31: Benar | M31: Salah | N31: Salah | O31: Benar | P31: Salah | Q31: Salah | R31: Benar | S31: Salah | T31: Benar | U31: Benar | V31: Salah | W31: Benar | X31: Benar | Y31: Benar | Z31: Benar
A32: 2025/06/28 9:01:05 AM GMT+7 | B32: Rifda | C32: 22 | D32: Perempuan | E32: Karyawan seasta | F32: Diploma/Sarjana | G32: Benar | H32: Benar | I32: Salah | J32: Salah | K32: Salah | L32: Benar | M32: Salah | N32: Salah | O32: Benar | P32: Salah | Q32: Salah | R32: Benar | S32: Salah | T32: Benar | U32: Benar | V32: Salah | W32: Benar | X32: Benar | Y32: Benar | Z32: Benar
A33: 2025/06/28 8:18:38 PM GMT+7 | B33: Iih salwiyah | C33: 26 tahun | D33: Perempuan | E33: Karyawan | F33: SD (Sekolah Dasar) | G33: Salah | H33: Benar | I33: Salah | J33: Salah | K33: Salah | L33: Benar | M33: Salah | N33: Salah | O33: Benar | P33: Salah | Q33: Salah | R33: Benar | S33: Salah | T33: Benar | U33: Benar | V33: Salah | W33: Benar | X33: Benar | Y33: Benar | Z33: Benar
A34: 2025/06/28 10:05:46 PM GMT+7 | B34: Imron | C34: 54th | D34: Laki - Laki | E34: Owner | F34: SMA/SMK/Sederajat | G34: Benar | H34: Benar | I34: Salah | J34: Salah | K34: Salah | L34: Benar | M34: Salah | N34: Salah | O34: Benar | P34: Salah | Q34: Salah | R34: Benar | S34: Benar | T34: Benar | U34: Salah | V34: Salah | W34: Benar | X34: Benar | Y34: Benar | Z34: Benar
A35: 2025/06/28 10:10:29 PM GMT+7 | B35: Imron | C35: 54th | D35: Laki - Laki | E35: Owner | F35: SMA/SMK/Sederajat | G35: Benar | H35: Benar | I35: Salah | J35: Salah | K35: Salah | L35: Benar | M35: Salah | N35: Salah | O35: Benar | P35: Salah | Q35: Salah | R35: Benar | S35: Benar | T35: Benar | U35: Benar | V35: Salah | W35: Benar | X35: Benar | Y35: Benar | Z35: Benar
A36: 2025/06/29 8:07:37 AM GMT+7 | B36: RINI FITRIANI | C36: 29 | D36: Perempuan | E36: Ibu rumah tangga | F36: SMP (Sekolah Menengah Pertama) | G36: Salah | H36: Benar | I36: Salah | J36: Salah | K36: Salah | L36: Benar | M36: Salah | N36: Salah | O36: Benar | P36: Salah | Q36: Salah | R36: Benar | S36: Salah | T36: Benar | U36: Benar | V36: Salah | W36: Benar | X36: Benar | Y36: Benar | Z36: Benar
A37: 2025/06/29 2:46:35 PM GMT+7 | B37: Silvia Nurhasanah | C37: 24 | D37: Perempuan | E37: TTK | F37: Diploma/Sarjana | G37: Benar | H37: Benar | I37: Salah | J37: Salah | K37: Salah | L37: Salah | M37: Salah | N37: Salah | O37: Benar | P37: Salah | Q37: Salah | R37: Benar | S37: Salah | T37: Benar | U37: Benar | V37: Salah | W37: Benar | X37: Benar | Y37: Benar | Z37: Benar
A38: 2025/06/30 7:30:39 AM GMT+7 | B38: Nining Nurhasanah | C38: 26 | D38: Perempuan | E38: Wirausaha | F38: Diploma/Sarjana | G38: Benar | H38: Benar | I38: Salah | J38: Salah | K38: Salah | L38: Benar | M38: Salah | N38: Salah | O38: Benar | P38: Salah | Q38: Salah | R38: Benar | S38: Salah | T38: Benar | U38: Benar | V38: Salah | W38: Benar | X38: Benar | Y38: Benar | Z38: Benar
A39: 2025/07/01 10:10:31 AM GMT+7 | B39: Ujang komarudin | C39: 45 | D39: Laki - Laki | E39: Ojol | F39: SMP (Sekolah Menengah Pertama) | G39: Benar | H39: Benar | I39: Salah | J39: Salah | K39: Salah | L39: Benar | M39: Salah | N39: Benar | O39: Benar | P39: Salah | Q39: Salah | R39: Benar | S39: Benar | T39: Benar | U39: Benar | V39: Salah | W39: Benar | X39: Benar | Y39: Benar | Z39: Benar
A40: 2025/07/02 3:01:23 AM GMT+7 | B40: Anisa Nur Rahmawati | C40: 24 | D40: Perempuan | E40: Karyawan swasta | F40: SMA/SMK/Sederajat | G40: Benar | H40: Benar | I40: Salah | J40: Salah | K40: Salah | L40: Benar | M40: Salah | N40: Salah | O40: Benar | P40: Salah | Q40: Salah | R40: Benar | S40: Salah | T40: Benar | U40: Benar | V40: Salah | W40: Benar | X40: Benar | Y40: Benar | Z40: Benar
...

Sheet tabulasi
A1: Cap waktu | B1: Nama Lengkap | C1: Usia | D1: usia | E1: Jenis Kelamin | F1: jenis_kelamin | G1: Pekerjaan | H1: pekerjaan | I1: Pendidikan | J1: Obat bebas bisa dibeli tanpa resep dokter. | K1: Informasi cara pakai obat bisa dilihat di kemasan atau label obat. | L1: Semua jenis obat bisa digunakan tanpa berkonsultasi ke apotek atau dokter. | M1: Obat yang direkomendasikan teman pasti cocok untuk semua orang. | N1: Aturan minum obat tidak penting selama gejalanya sama. | O1: Obat harus diminum sesuai aturan pakai yang tertera. | P1: Dosis obat boleh ditambah sendiri agar cepat sembuh. | Q1: Waktu minum obat (sebelum/sesudah makan) tidak perlu diperhatikan. | R1: Obat sebaiknya disimpan di tempat yang sejuk dan kering. | S1: Obat boleh disimpan di tempat lembap seperti kamar mandi. | T1: Menyimpan obat di dekat jangkauan anak-anak itu aman. | U1: Obat kedaluwarsa sebaiknya dibuang, bukan disimpan. | V1: Obat kedaluwarsa boleh langsung dibuang ke sungai atau toilet. | W1: Obat yang sudah tidak digunakan lagi sebaiknya dihancurkan sebelum dibuang. | X1: Membuang obat sembarangan bisa mencemari lingkungan. | Y1: Obat bebas dan obat keras itu sama saja. | Z1: Jika gejala tidak membaik setelah minum obat bebas, sebaiknya periksa ke dokter. | AA1: Semua orang harus tahu cara menggunakan dan menyimpan obat dengan benar. | AB1: Obat yang tidak cocok bisa menyebabkan efek samping. | AC1: Edukasi DAGUSIBU penting untuk mencegah kesalahan dalam penggunaan obat. | AD1: total_pengetahuan | AE1: %_pengetahuan | AF1: keterangan | AG1: kode_pengetahuan
A2: 2025/06/25 1:20:05 PM GMT+7 | B2: sebob | C2: 21 | D2: =IF(C2>45,"4",IF(C2>35,"3",IF(C2>25,"2","1"))) -> 1 | E2: Laki - Laki | F2: 1 | G2: mahasiswa | H2: 4 | I2: 4 | J2: 1 | K2: 1 | L2: 1 | M2: 1 | N2: 1 | O2: 1 | P2: 0 | Q2: 0 | R2: 1 | S2: 0 | T2: 0 | U2: 1 | V2: 0 | W2: 1 | X2: 1 | Y2: 0 | Z2: 1 | AA2: 1 | AB2: 1 | AC2: 1 | AD2: =SUM(J2:AC2) -> 14 | AE2: =(AD2/20)*100 -> 70 | AF2: =IF(AE2>75,"baik",IF(AE2>55,"cukup","kurang")) -> cukup | AG2: =IF(AE2>75,"3",IF(AE2>55,"2","1")) -> 2
A3: 2025/06/25 1:22:10 PM GMT+7 | B3: Shaqilla Fayruz Qirani | C3: 32 | D3: =IF(C3>45,"4",IF(C3>35,"3",IF(C3>25,"2","1"))) -> 2 | E3: Perempuan | F3: 2 | G3: Ibu Rumah Tangga | H3: 1 | I3: 4 | J3: 1 | K3: 1 | L3: 0 | M3: 0 | N3: 0 | O3: 1 | P3: 0 | Q3: 0 | R3: 1 | S3: 0 | T3: 0 | U3: 1 | V3: 0 | W3: 1 | X3: 1 | Y3: 0 | Z3: 1 | AA3: 1 | AB3: 1 | AC3: 1 | AD3: =SUM(J3:AC3) -> 11 | AE3: =(AD3/20)*100 -> 55 | AF3: =IF(AE3>75,"baik",IF(AE3>55,"cukup","kurang")) -> kurang | AG3: =IF(AE3>75,"3",IF(AE3>55,"2","1")) -> 1
A4: 2025/06/25 1:45:23 PM GMT+7 | B4: Angga aditya | C4: 24 | D4: =IF(C4>45,"4",IF(C4>35,"3",IF(C4>25,"2","1"))) -> 1 | E4: Laki - Laki | F4: 1 | G4: Pelajar | H4: 4 | I4: 3 | J4: 1 | K4: 1 | L4: 0 | M4: 0 | N4: 0 | O4: 1 | P4: 0 | Q4: 0 | R4: 1 | S4: 0 | T4: 0 | U4: 1 | V4: 0 | W4: 1 | X4: 1 | Y4: 0 | Z4: 1 | AA4: 1 | AB4: 1 | AC4: 1 | AD4: =SUM(J4:AC4) -> 11 | AE4: =(AD4/20)*100 -> 55 | AF4: =IF(AE4>75,"baik",IF(AE4>55,"cukup","kurang")) -> kurang | AG4: =IF(AE4>75,"3",IF(AE4>55,"2","1")) -> 1
A5: 2025/06/25 1:58:05 PM GMT+7 | B5: Ibnu akil | C5: 25 | D5: =IF(C5>45,"4",IF(C5>35,"3",IF(C5>25,"2","1"))) -> 1 | E5: Laki - Laki | F5: 1 | G5: Wirausaha | H5: 3 | I5: 3 | J5: 1 | K5: 1 | L5: 0 | M5: 0 | N5: 0 | O5: 1 | P5: 0 | Q5: 0 | R5: 1 | S5: 0 | T5: 0 | U5: 1 | V5: 0 | W5: 1 | X5: 1 | Y5: 0 | Z5: 1 | AA5: 1 | AB5: 1 | AC5: 1 | AD5: =SUM(J5:AC5) -> 11 | AE5: =(AD5/20)*100 -> 55 | AF5: =IF(AE5>75,"baik",IF(AE5>55,"cukup","kurang")) -> kurang | AG5: =IF(AE5>75,"3",IF(AE5>55,"2","1")) -> 1
A6: 2025/06/25 2:09:27 PM GMT+7 | B6: Vania | C6: 24 | D6: =IF(C6>45,"4",IF(C6>35,"3",IF(C6>25,"2","1"))) -> 1 | E6: Perempuan | F6: 2 | G6: Mahasiswi | H6: 4 | I6: 3 | J6: 1 | K6: 1 | L6: 0 | M6: 0 | N6: 0 | O6: 1 | P6: 0 | Q6: 0 | R6: 1 | S6: 0 | T6: 0 | U6: 1 | V6: 0 | W6: 1 | X6: 1 | Y6: 0 | Z6: 1 | AA6: 1 | AB6: 1 | AC6: 1 | AD6: =SUM(J6:AC6) -> 11 | AE6: =(AD6/20)*100 -> 55 | AF6: =IF(AE6>75,"baik",IF(AE6>55,"cukup","kurang")) -> kurang | AG6: =IF(AE6>75,"3",IF(AE6>55,"2","1")) -> 1
A7: 2025/06/25 2:29:27 PM GMT+7 | B7: Lenni Kristina pasaribu | C7: 23 | D7: =IF(C7>45,"4",IF(C7>35,"3",IF(C7>25,"2","1"))) -> 1 | E7: Perempuan | F7: 2 | G7: Belum bekerja | H7: 5 | I7: 4 | J7: 1 | K7: 1 | L7: 0 | M7: 0 | N7: 0 | O7: 1 | P7: 0 | Q7: 0 | R7: 1 | S7: 0 | T7: 0 | U7: 1 | V7: 0 | W7: 1 | X7: 1 | Y7: 0 | Z7: 1 | AA7: 1 | AB7: 1 | AC7: 1 | AD7: =SUM(J7:AC7) -> 11 | AE7: =(AD7/20)*100 -> 55 | AF7: =IF(AE7>75,"baik",IF(AE7>55,"cukup","kurang")) -> kurang | AG7: =IF(AE7>75,"3",IF(AE7>55,"2","1")) -> 1
A8: 2025/06/25 2:42:38 PM GMT+7 | B8: Sei Lestari | C8: 22 | D8: =IF(C8>45,"4",IF(C8>35,"3",IF(C8>25,"2","1"))) -> 1 | E8: Perempuan | F8: 2 | G8: Wiraswasta | H8: 3 | I8: 3 | J8: 1 | K8: 1 | L8: 0 | M8: 0 | N8: 0 | O8: 1 | P8: 0 | Q8: 0 | R8: 1 | S8: 0 | T8: 0 | U8: 1 | V8: 0 | W8: 1 | X8: 1 | Y8: 0 | Z8: 1 | AA8: 1 | AB8: 1 | AC8: 1 | AD8: =SUM(J8:AC8) -> 11 | AE8: =(AD8/20)*100 -> 55 | AF8: =IF(AE8>75,"baik",IF(AE8>55,"cukup","kurang")) -> kurang | AG8: =IF(AE8>75,"3",IF(AE8>55,"2","1")) -> 1
A9: 2025/06/25 4:23:24 PM GMT+7 | B9: Iyas Abdul aziz | C9: 22 | D9: =IF(C9>45,"4",IF(C9>35,"3",IF(C9>25,"2","1"))) -> 1 | E9: Laki - Laki | F9: 1 | G9: waiter | H9: 2 | I9: 3 | J9: 1 | K9: 0 | L9: 0 | M9: 0 | N9: 0 | O9: 1 | P9: 0 | Q9: 0 | R9: 1 | S9: 0 | T9: 0 | U9: 1 | V9: 0 | W9: 0 | X9: 1 | Y9: 0 | Z9: 1 | AA9: 1 | AB9: 1 | AC9: 1 | AD9: =SUM(J9:AC9) -> 9 | AE9: =(AD9/20)*100 -> 45 | AF9: =IF(AE9>75,"baik",IF(AE9>55,"cukup","kurang")) -> kurang | AG9: =IF(AE9>75,"3",IF(AE9>55,"2","1")) -> 1
A10: 2025/06/26 5:09:02 AM GMT+7 | B10: Nur hayati | C10: 28 | D10: =IF(C10>45,"4",IF(C10>35,"3",IF(C10>25,"2","1"))) -> 2 | E10: Perempuan | F10: 2 | G10: CPNS | H10: 2 | I10: 4 | J10: 1 | K10: 1 | L10: 0 | M10: 0 | N10: 0 | O10: 1 | P10: 0 | Q10: 0 | R10: 1 | S10: 0 | T10: 0 | U10: 1 | V10: 0 | W10: 1 | X10: 1 | Y10: 0 | Z10: 1 | AA10: 1 | AB10: 1 | AC10: 1 | AD10: =SUM(J10:AC10) -> 11 | AE10: =(AD10/20)*100 -> 55 | AF10: =IF(AE10>75,"baik",IF(AE10>55,"cukup","kurang")) -> kurang | AG10: =IF(AE10>75,"3",IF(AE10>55,"2","1")) -> 1
A11: 2025/06/27 9:01:13 AM GMT+7 | B11: Eka | C11: 25 | D11: =IF(C11>45,"4",IF(C11>35,"3",IF(C11>25,"2","1"))) -> 1 | E11: Perempuan | F11: 2 | G11: Wirausaha | H11: 3 | I11: 3 | J11: 1 | K11: 1 | L11: 0 | M11: 1 | N11: 0 | O11: 1 | P11: 0 | Q11: 0 | R11: 1 | S11: 0 | T11: 0 | U11: 1 | V11: 1 | W11: 0 | X11: 1 | Y11: 0 | Z11: 1 | AA11: 1 | AB11: 1 | AC11: 1 | AD11: =SUM(J11:AC11) -> 12 | AE11: =(AD11/20)*100 -> 60 | AF11: =IF(AE11>75,"baik",IF(AE11>55,"cukup","kurang")) -> cukup | AG11: =IF(AE11>75,"3",IF(AE11>55,"2","1")) -> 2
A12: 2025/06/27 10:11:43 AM GMT+7 | B12: Wildan | C12: 18 | D12: =IF(C12>45,"4",IF(C12>35,"3",IF(C12>25,"2","1"))) -> 1 | E12: Laki - Laki | F12: 1 | G12: Pedagang | H12: 3 | I12: 3 | J12: 1 | K12: 1 | L12: 0 | M12: 0 | N12: 1 | O12: 1 | P12: 0 | Q12: 0 | R12: 1 | S12: 0 | T12: 0 | U12: 1 | V12: 1 | W12: 1 | X12: 1 | Y12: 0 | Z12: 1 | AA12: 1 | AB12: 1 | AC12: 1 | AD12: =SUM(J12:AC12) -> 13 | AE12: =(AD12/20)*100 -> 65 | AF12: =IF(AE12>75,"baik",IF(AE12>55,"cukup","kurang")) -> cukup | AG12: =IF(AE12>75,"3",IF(AE12>55,"2","1")) -> 2
A13: 2025/06/27 10:13:02 AM GMT+7 | B13: Muhammad bimo | C13: 22 | D13: =IF(C13>45,"4",IF(C13>35,"3",IF(C13>25,"2","1"))) -> 1 | E13: Laki - Laki | F13: 1 | G13: Karyawan | H13: 2 | I13: 3 | J13: 0 | K13: 1 | L13: 0 | M13: 0 | N13: 0 | O13: 1 | P13: 0 | Q13: 1 | R13: 1 | S13: 0 | T13: 1 | U13: 1 | V13: 1 | W13: 1 | X13: 1 | Y13: 0 | Z13: 1 | AA13: 1 | AB13: 1 | AC13: 1 | AD13: =SUM(J13:AC13) -> 13 | AE13: =(AD13/20)*100 -> 65 | AF13: =IF(AE13>75,"baik",IF(AE13>55,"cukup","kurang")) -> cukup | AG13: =IF(AE13>75,"3",IF(AE13>55,"2","1")) -> 2
... A133: 2025/08/06 9:54:12 PM GMT+7 | B133: Dian citra | C133: 51 | D133: =IF(C133>45,"4",IF(C133>35,"3",IF(C133>25,"2","1"))) -> 4 | E133: Perempuan | F133: 2 | G133: Product manager | H133: 2 | I133: 4 | J133: 1 | K133: 1 | L133: 0 | M133: 0 | N133: 0 | O133: 1 | P133: 0 | Q133: 0 | R133: 1 | S133: 0 | T133: 0 | U133: 1 | V133: 0 | W133: 1 | X133: 1 | Y133: 0 | Z133: 1 | AA133: 1 | AB133: 1 | AC133: 1 | AD133: =SUM(J133:AC133) -> 11 | AE133: =(AD133/20)*100 -> 55 | AF133: =IF(AE133>75,"baik",IF(AE133>55,"cukup","kurang")) -> kurang | AG133: =IF(AE133>75,"3",IF(AE133>55,"2","1")) -> 1
J135: =COUNTIF(J2:J133,0) -> 8 | K135: =COUNTIF(K2:K133,0) -> 2 | L135: =COUNTIF(L2:L133,0) -> 126 | M135: =COUNTIF(M2:M133,0) -> 128 | N135: =COUNTIF(N2:N133,0) -> 128 | O135: =COUNTIF(O2:O133,0) -> 1 | P135: =COUNTIF(P2:P133,0) -> 129 | Q135: =COUNTIF(Q2:Q133,0) -> 124 | ... AC135: =COUNTIF(AC2:AC133,0) -> 2 | AF135: baik | AG135: =COUNTIF(AG2:AG133,3) -> 2
J136: =(J135/139)*100 -> 5.7553957 | K136: =(K135/139)*100 -> 1.4388489 | L136: =(L135/139)*100 -> 90.647482 | M136: =(M135/139)*100 -> 92.086331 | N136: =(N135/139)*100 -> 92.086331 | O136: =(O135/139)*100 -> 0.71942446 | P136: =(P135/139)*100 -> 92.805755 | Q136: =(Q135/139)*100 -> 89.208633 | ... AC136: =(AC135/139)*100 -> 1.4388489 | AF136: cukup | AG136: =COUNTIF(AG2:AG133,2) -> 13
J137: =COUNTIF(J2:J133,1) -> 124 | K137: =COUNTIF(K2:K133,1) -> 130 | L137: =COUNTIF(L2:L133,1) -> 6 | M137: =COUNTIF(M2:M133,1) -> 4 | N137: =COUNTIF(N2:N133,1) -> 4 | O137: =COUNTIF(O2:O133,1) -> 131 | P137: =COUNTIF(P2:P133,1) -> 3 | Q137: =COUNTIF(Q2:Q133,1) -> 8 | ... AC137: =COUNTIF(AC2:AC133,1) -> 130 | AF137: kurang | AG137: =COUNTIF(AG2:AG133,1) -> 117
J138: =(J137/139)*100 -> 89.208633 | K138: =(K137/139)*100 -> 93.52518 | L138: =(L137/139)*100 -> 4.3165468 | M138: =(M137/139)*100 -> 2.8776978 | N138: =(N137/139)*100 -> 2.8776978 | O138: =(O137/139)*100 -> 94.244604 | P138: =(P137/139)*100 -> 2.1582734 | Q138: =(Q137/139)*100 -> 5.7553957 | ... AC138: =(AC137/139)*100 -> 93.52518
J140: Obat bebas bisa dibeli tanpa resep dokter. | K140: Informasi cara pakai obat bisa dilihat di kemasan atau label obat. | L140: Semua jenis obat bisa digunakan tanpa berkonsultasi ke apotek atau dokter. | M140: Obat yang direkomendasikan teman pasti cocok untuk semua orang. | N140: Aturan minum obat tidak penting selama gejalanya sama. | O140: Obat harus diminum sesuai aturan pakai yang tertera. | P140: Dosis obat boleh ditambah sendiri agar cepat sembuh. | Q140: Waktu minum obat (sebelum/sesudah makan) tidak perlu diperhatikan. | R140: Obat sebaiknya disimpan di tempat yang sejuk dan kering. | S140: Obat boleh disimpan di tempat lembap seperti kamar mandi. | T140: Menyimpan obat di dekat jangkauan anak-anak itu aman. | U140: Obat kedaluwarsa sebaiknya dibuang, bukan disimpan. | V140: Obat kedaluwarsa boleh langsung dibuang ke sungai atau toilet. | W140: Obat yang sudah tidak digunakan lagi sebaiknya dihancurkan sebelum dibuang. | X140: Membuang obat sembarangan bisa mencemari lingkungan. | Y140: Obat bebas dan obat keras itu sama saja. | Z140: Jika gejala tidak membaik setelah minum obat bebas, sebaiknya periksa ke dokter. | AA140: Semua orang harus tahu cara menggunakan dan menyimpan obat dengan benar. | AB140: Obat yang tidak cocok bisa menyebabkan efek samping. | AC140: Edukasi DAGUSIBU penting untuk mencegah kesalahan dalam penggunaan obat.
J141: 8 | K141: 2 | L141: 126 | M141: 128 | N141: 128 | O141: 1 | P141: 129 | Q141: 124 | R141: 2 | S141: 129 | T141: 126 | U141: 1 | V141: 119 | W141: 5 | X141: 1 | Y141: 128 | Z141: 0 | AA141: 2 | AB141: 1 | AC141: 2
J142: 5.7553957 | K142: 1.4388489 | L142: 90.647482 | M142: 92.086331 | N142: 92.086331 | O142: 0.71942446 | P142: 92.805755 | Q142: 89.208633 | R142: 1.4388489 | S142: 92.805755 | T142: 90.647482 | U142: 0.71942446 | V142: 85.611511 | W142: 3.5971223 | X142: 0.71942446 | Y142: 92.086331 | Z142: 0 | AA142: 1.4388489 | AB142: 0.71942446 | AC142: 1.4388489
J143: 124 | K143: 130 | L143: 6 | M143: 4 | N143: 4 | O143: 131 | P143: 3 | Q143: 8 | R143: 130 | S143: 3 | T143: 6 | U143: 131 | V143: 13 | W143: 127 | X143: 131 | Y143: 4 | Z143: 132 | AA143: 130 | AB143: 131 | AC143: 130
J144: 89.208633 | K144: 93.52518 | L144: 4.3165468 | M144: 2.8776978 | N144: 2.8776978 | O144: 94.244604 | P144: 2.1582734 | Q144: 5.7553957 | R144: 93.52518 | S144: 2.1582734 | T144: 4.3165468 | U144: 94.244604 | V144: 9.352518 | W144: 91.366906 | X144: 94.244604 | Y144: 2.8776978 | Z144: 94.964029 | AA144: 93.52518 | AB144: 94.244604 | AC144: 93.52518
J146: Pernyataan Pengetahuan | K146: salah | M146: benar
K147: f | L147: % | M147: f | N147: %
J148: Obat bebas bisa dibeli tanpa resep dokter. | K148: 8 | L148: 5.7553957 | M148: 124 | N148: 89.208633
J149: Informasi cara pakai obat bisa dilihat di kemasan atau label obat. | K149: 2 | L149: 1.4388489 | M149: 130 | N149: 93.52518
J150: Semua jenis obat bisa digunakan tanpa berkonsultasi ke apotek atau dokter. | K150: 126 | L150: 90.647482 | M150: 6 | N150: 4.3165468
J151: Obat yang direkomendasikan teman pasti cocok untuk semua orang. | K151: 128 | L151: 92.086331 | M151: 4 | N151: 2.8776978
J152: Aturan minum obat tidak penting selama gejalanya sama. | K152: 128 | L152: 92.086331 | M152: 4 | N152: 2.8776978
J153: Obat harus diminum sesuai aturan pakai yang tertera. | K153: 1 | L153: 0.71942446 | M153: 131 | N153: 94.244604
J154: Dosis obat boleh ditambah sendiri agar cepat sembuh. | K154: 129 | L154: 92.805755 | M154: 3 | N154: 2.1582734
J155: Waktu minum obat (sebelum/sesudah makan) tidak perlu diperhatikan. | K155: 124 | L155: 89.208633 | M155: 8 | N155: 5.7553957
J156: Obat sebaiknya disimpan di tempat yang sejuk dan kering. | K156: 2 | L156: 1.4388489 | M156: 130 | N156: 93.52518
J157: Obat boleh disimpan di tempat lembap seperti kamar mandi. | K157: 129 | L157: 92.805755 | M157: 3 | N157: 2.1582734
J158: Menyimpan obat di dekat jangkauan anak-anak itu aman. | K158: 126 | L158: 90.647482 | M158: 6 | N158: 4.3165468
J159: Obat kedaluwarsa sebaiknya dibuang, bukan disimpan. | K159: 1 | L159: 0.71942446 | M159: 131 | N159: 94.244604
... J167: Edukasi DAGUSIBU penting untuk mencegah kesalahan dalam penggunaan obat. | K167: 2 | L167: 1.4388489 | M167: 130 | N167: 93.52518

Sheet input spss
A1: =tabulasi!D1 -> usia | B1: =tabulasi!F1 -> jenis_kelamin | C1: =tabulasi!H1 -> pekerjaan | D1: =tabulasi!I1 -> Pendidikan | E1: =tabulasi!AG1 -> kode_pengetahuan
A2: =tabulasi!D2 -> 1 | B2: =tabulasi!F2 -> 1 | C2: =tabulasi!H2 -> 4 | D2: =tabulasi!I2 -> 4 | E2: =tabulasi!AG2 -> 2
A3: =tabulasi!D3 -> 2 | B3: =tabulasi!F3 -> 2 | C3: =tabulasi!H3 -> 1 | D3: =tabulasi!I3 -> 4 | E3: =tabulasi!AG3 -> 1
A4: =tabulasi!D4 -> 1 | B4: =tabulasi!F4 -> 1 | C4: =tabulasi!H4 -> 4 | D4: =tabulasi!I4 -> 3 | E4: =tabulasi!AG4 -> 1
A5: =tabulasi!D5 -> 1 | B5: =tabulasi!F5 -> 1 | C5: =tabulasi!H5 -> 3 | D5: =tabulasi!I5 -> 3 | E5: =tabulasi!AG5 -> 1
A6: =tabulasi!D6 -> 1 | B6: =tabulasi!F6 -> 2 | C6: =tabulasi!H6 -> 4 | D6: =tabulasi!I6 -> 3 | E6: =tabulasi!AG6 -> 1
A7: =tabulasi!D7 -> 1 | B7: =tabulasi!F7 -> 2 | C7: =tabulasi!H7 -> 5 | D7: =tabulasi!I7 -> 4 | E7: =tabulasi!AG7 -> 1
A8: =tabulasi!D8 -> 1 | B8: =tabulasi!F8 -> 2 | C8: =tabulasi!H8 -> 3 | D8: =tabulasi!I8 -> 3 | E8: =tabulasi!AG8 -> 1
A9: =tabulasi!D9 -> 1 | B9: =tabulasi!F9 -> 1 | C9: =tabulasi!H9 -> 2 | D9: =tabulasi!I9 -> 3 | E9: =tabulasi!AG9 -> 1
A10: =tabulasi!D10 -> 2 | B10: =tabulasi!F10 -> 2 | C10: =tabulasi!H10 -> 2 | D10: =tabulasi!I10 -> 4 | E10: =tabulasi!AG10 -> 1
A11: =tabulasi!D11 -> 1 | B11: =tabulasi!F11 -> 2 | C11: =tabulasi!H11 -> 3 | D11: =tabulasi!I11 -> 3 | E11: =tabulasi!AG11 -> 2
A12: =tabulasi!D12 -> 1 | B12: =tabulasi!F12 -> 1 | C12: =tabulasi!H12 -> 3 | D12: =tabulasi!I12 -> 3 | E12: =tabulasi!AG12 -> 2
... A133: =tabulasi!D133 -> 4 | B133: =tabulasi!F133 -> 2 | C133: =tabulasi!H133 -> 2 | D133: =tabulasi!I133 -> 4 | E133: =tabulasi!AG133 -> 1
A134: =tabulasi!#REF! -> #REF! | B134: =tabulasi!#REF! -> #REF! | C134: =tabulasi!#REF! -> #REF! | D134: =tabulasi!#REF! -> #REF! | E134: =tabulasi!#REF! -> #REF!
A135: =tabulasi!#REF! -> #REF! | B135: =tabulasi!#REF! -> #REF! | C135: =tabulasi!#REF! -> #REF! | D135: =tabulasi!#REF! -> #REF! | E135: =tabulasi!#REF! -> #REF!
A136: =tabulasi!#REF! -> #REF! | B136: =tabulasi!#REF! -> #REF! | C136: =tabulasi!#REF! -> #REF! | D136: =tabulasi!#REF! -> #REF! | E136: =tabulasi!#REF! -> #REF!
A137: =tabulasi!#REF! -> #REF! | B137: =tabulasi!#REF! -> #REF! | C137: =tabulasi!#REF! -> #REF! | D137: =tabulasi!#REF! -> #REF! | E137: =tabulasi!#REF! -> #REF!
A138: =tabulasi!#REF! -> #REF! | B138: =tabulasi!#REF! -> #REF! | C138: =tabulasi!#REF! -> #REF! | D138: =tabulasi!#REF! -> #REF! | E138: =tabulasi!#REF! -> #REF!
A139: =tabulasi!#REF! -> #REF! | B139: =tabulasi!#REF! -> #REF! | C139: =tabulasi!#REF! -> #REF! | D139: =tabulasi!#REF! -> #REF! | E139: =tabulasi!#REF! -> #REF!
A140: =tabulasi!#REF! -> #REF! | B140: =tabulasi!#REF! -> #REF! | C140: =tabulasi!#REF! -> #REF! | D140: =tabulasi!#REF! -> #REF! | E140: =tabulasi!#REF! -> #REF!
